BEGIN:VCALENDAR
VERSION:2.0
PRODID:spatie/icalendar-generator
DESCRIPTION:Veranstaltungen von Sporthalle Hallwyl GmbH
X-WR-CALDESC:Veranstaltungen von Sporthalle Hallwyl GmbH
REFRESH-INTERVAL;VALUE=DURATION:PT1440M
X-PUBLISHED-TTL:PT1440M
BEGIN:VTIMEZONE
TZID:Europe/Berlin
BEGIN:STANDARD
DTSTART:20221030T030000Z
TZOFFSETFROM:+0200
TZOFFSETTO:+0100
END:STANDARD
BEGIN:DAYLIGHT
DTSTART:20230326T020000Z
TZOFFSETFROM:+0100
TZOFFSETTO:+0200
END:DAYLIGHT
END:VTIMEZONE
BEGIN:VTIMEZONE
TZID:UTC
BEGIN:STANDARD
DTSTART:20250723T195601Z
TZOFFSETFROM:+0000
TZOFFSETTO:+0000
END:STANDARD
END:VTIMEZONE
BEGIN:VEVENT
UID:55-52
DTSTAMP:20260419T195601Z
SUMMARY:Reserviert Nadja Hänggli
LOCATION:
ORGANIZER;CN=christa:MAILTO:info@sporthallehallwyl.ch
DTSTART;TZID=Europe/Berlin:20230426T150000
DTEND;TZID=Europe/Berlin:20230426T160000
X-ALT-DESC;FMTTYPE=TEXT/HTML:
CATEGORIES:Sporthalle
URL;VALUE=URI:https://sporthallehallwyl.ch/mc-events/reserviert-nadja-haeng
 gli/
METHOD:PUBLISH
END:VEVENT
END:VCALENDAR